BEGIN:VCALENDAR
PRODID:-//Microsoft Corporation//Outlook 12.0 MIMEDIR//EN
VERSION:2.0
CALSCALE:GREGORIAN
BEGIN:VEVENT
UID: 6e8eabf3-8870-49f4-8def-b9552e3529ba
SUMMARY:Eesti keele e-katseeksam 9.kl õpilastele
DTSTAMP:20260319T100000
DTSTART:20260319T100000
DTEND:20260319T134000
LOCATION:Avinurme Gümnaasium
DESCRIPTION: <p>E-katseeksami sooritavad kõik 9.klassi õpilased.<br>Katseeksam toimub Eksamite infosüsteemi e-keskkonnas. Õpilased on jaotatud kahte gruppi ning kahte arvutiklassi.<br>Katseeksami ajakava:<br>10.00- 10.10 - sissejuhatus, tehnika testimine<br>10.10 - 11.40 - I osa ( kuulamine, lugemine, keeleteadmised)<br>11.40- 12.10 - lõunasöök, puhkepaus<br>12.10- 13.40 II osa (kirjand)</p><p><strong>Link: </strong>https://avinurme.edu.ee/et/sundmuste-kalender/eesti-keele-e-katseeksam-9kl-opilastele</p><p><strong>Hind: </strong></p>
STATUS:CONFIRMED
SEQUENCE:3
X-ALT-DESC;FMTTYPE=text/html:<p>E-katseeksami sooritavad kõik 9.klassi õpilased.<br>Katseeksam toimub Eksamite infosüsteemi e-keskkonnas. Õpilased on jaotatud kahte gruppi ning kahte arvutiklassi.<br>Katseeksami ajakava:<br>10.00- 10.10 - sissejuhatus, tehnika testimine<br>10.10 - 11.40 - I osa ( kuulamine, lugemine, keeleteadmised)<br>11.40- 12.10 - lõunasöök, puhkepaus<br>12.10- 13.40 II osa (kirjand)</p><p><strong>Link: </strong>https://avinurme.edu.ee/et/sundmuste-kalender/eesti-keele-e-katseeksam-9kl-opilastele</p><p><strong>Hind: </strong></p>
X-MICROSOFT-CDO-BUSYSTATUS:OOF
X-MICROSOFT-CDO-IMPORTANCE:1
X-MICROSOFT-DISALLOW-COUNTER:FALSE
X-MS-OLK-ALLOWEXTERNCHECK:TRUE
X-MS-OLK-CONFTYPE:0
X-MICROSOFT-CDO-ALLDAYEVENT:
X-MICROSOFT-MSNCALENDAR-ALLDAYEVENT:
END:VEVENT
END:VCALENDAR