BEGIN:VCALENDAR
PRODID:-//Microsoft Corporation//Outlook 12.0 MIMEDIR//EN
VERSION:2.0
CALSCALE:GREGORIAN
BEGIN:VEVENT
UID: 2fd211ed-84a6-406e-bb30-e5bbeeab82c3
SUMMARY:Meediapädevuse töötoad 1.-9.klassile
DTSTAMP:20260312
DTSTART:20260312
DTEND:20260313
DURATION:P1D
LOCATION:Avinurme Gümnaasium
DESCRIPTION: <p>Toimuvad Tartu Ülikooli ühiskonnateaduste instituudi meediapädevuse töötoad 1.-9.kl õpilastele. Töötoad toimuvad TÜ Meediaklubi meediaõpetuse tundide projekti raames ning Saksa Suursaatkonna rahastuse toel.<br>Töötube viivad läbi Tartu Ülikooli tudengid. Üks töötuba kestab 45 minutit ja on mõeldud ühele klassile korraga. 1.-4.klassi töötubades ei kasutata digivahendeid ega internetti, õppimine toimub läbi eakohaste mänguliste tegevuste.&nbsp;<br>Töötubade teemad kooliastmeti:<br>I kooliaste (1.–3. klass): enda privaatsuse kaitsmine ja teiste oma austamine internetis, paroolid, digitaalne jalajälg, võõraste ja sõpradega suhtlemine internetis (sh piltide tegemine, saatmine).<br>II kooliaste (4.–6. klass): tehisintellekti riskid ja võimalused, kahjulik ja kiuslik suhtlus internetis, loata pildistamine ja filmimine, privaatse info jagamine, valeinfo tunnused ja info kriitiline hindamine.<br>III kooliaste (7.–9. klass): tehisintellekti riskid ja võimalused, sotsiaalmeedia algoritmid, valeinfo eri liigid, vandenõuteooriad, ajakirjanduse ja sotsiaalmeedia erinevused, info kontrollimine.<br>TÖÖTUBADE AJAD JA RUUMID:<br>1) 8.30- 9.15 - 1. klass (aulas) ja 5.klass (ruum 202)<br>2) 9.30 - 10.15 - 2. klass (aulas) ja 6.klass (ruum 202)<br>3) 10.30 - 11.15 - 3. klass (aulas) ja 7.klass (ruum 202)<br>Lõunapaus 11.15 - 11.45<br>4) 11.45- 12.30 - 4. klass (aulas) ja 8.klass (ruum 202)<br>5) 12.45- 13.30 - 9.klass (ruum 202)</p><p><strong>Link: </strong>https://avinurme.edu.ee/et/sundmuste-kalender/meediapadevuse-tootoad-1-9klassile</p><p><strong>Hind: </strong></p>
STATUS:CONFIRMED
SEQUENCE:3
X-ALT-DESC;FMTTYPE=text/html:<p>Toimuvad Tartu Ülikooli ühiskonnateaduste instituudi meediapädevuse töötoad 1.-9.kl õpilastele. Töötoad toimuvad TÜ Meediaklubi meediaõpetuse tundide projekti raames ning Saksa Suursaatkonna rahastuse toel.<br>Töötube viivad läbi Tartu Ülikooli tudengid. Üks töötuba kestab 45 minutit ja on mõeldud ühele klassile korraga. 1.-4.klassi töötubades ei kasutata digivahendeid ega internetti, õppimine toimub läbi eakohaste mänguliste tegevuste.&nbsp;<br>Töötubade teemad kooliastmeti:<br>I kooliaste (1.–3. klass): enda privaatsuse kaitsmine ja teiste oma austamine internetis, paroolid, digitaalne jalajälg, võõraste ja sõpradega suhtlemine internetis (sh piltide tegemine, saatmine).<br>II kooliaste (4.–6. klass): tehisintellekti riskid ja võimalused, kahjulik ja kiuslik suhtlus internetis, loata pildistamine ja filmimine, privaatse info jagamine, valeinfo tunnused ja info kriitiline hindamine.<br>III kooliaste (7.–9. klass): tehisintellekti riskid ja võimalused, sotsiaalmeedia algoritmid, valeinfo eri liigid, vandenõuteooriad, ajakirjanduse ja sotsiaalmeedia erinevused, info kontrollimine.<br>TÖÖTUBADE AJAD JA RUUMID:<br>1) 8.30- 9.15 - 1. klass (aulas) ja 5.klass (ruum 202)<br>2) 9.30 - 10.15 - 2. klass (aulas) ja 6.klass (ruum 202)<br>3) 10.30 - 11.15 - 3. klass (aulas) ja 7.klass (ruum 202)<br>Lõunapaus 11.15 - 11.45<br>4) 11.45- 12.30 - 4. klass (aulas) ja 8.klass (ruum 202)<br>5) 12.45- 13.30 - 9.klass (ruum 202)</p><p><strong>Link: </strong>https://avinurme.edu.ee/et/sundmuste-kalender/meediapadevuse-tootoad-1-9klassile</p><p><strong>Hind: </strong></p>
X-MICROSOFT-CDO-BUSYSTATUS:OOF
X-MICROSOFT-CDO-IMPORTANCE:1
X-MICROSOFT-DISALLOW-COUNTER:FALSE
X-MS-OLK-ALLOWEXTERNCHECK:TRUE
X-MS-OLK-CONFTYPE:0
X-MICROSOFT-CDO-ALLDAYEVENT:1
X-MICROSOFT-MSNCALENDAR-ALLDAYEVENT:1
END:VEVENT
END:VCALENDAR