BEGIN:VCALENDAR
PRODID:-//Microsoft Corporation//Outlook 12.0 MIMEDIR//EN
VERSION:2.0
CALSCALE:GREGORIAN
BEGIN:VEVENT
UID: c3c76f29-ea3b-4899-8ac1-8192b5729e40
SUMMARY:Matemaatikavõistlus KÄNGURU 2026
DTSTAMP:20260319T100000
DTSTART:20260319T100000
DTEND:20260319T111500
LOCATION:Avinurme Gümnaasium
DESCRIPTION: <p>KÄNGURU on populaarne rahvusvaheline matemaatikavõistlus, mille eesmärgiks on mänguliste ülesannete kaudu populariseerida matemaatikat. Eestis korraldab võistlust Eesti Matemaatika Selts koostöös Tartu Ülikooli teaduskooliga. Võistlusel saavad osaleda 1.-12. klassi õpilased kuues vanuserühmas.&nbsp;</p><p>Meie koolist osaleb võistlusel kokku 35 õpilast.&nbsp;</p><p>Võistlus toimub ruumis nr 211, 2.ainetunni ajal. Ülesannete lahendamiseks on aega 1 tund ja 15 minutit.</p><p><strong>Link: </strong>https://avinurme.edu.ee/et/sundmuste-kalender/matemaatikavoistlus-kanguru-2026</p><p><strong>Hind: </strong></p>
STATUS:CONFIRMED
SEQUENCE:3
X-ALT-DESC;FMTTYPE=text/html:<p>KÄNGURU on populaarne rahvusvaheline matemaatikavõistlus, mille eesmärgiks on mänguliste ülesannete kaudu populariseerida matemaatikat. Eestis korraldab võistlust Eesti Matemaatika Selts koostöös Tartu Ülikooli teaduskooliga. Võistlusel saavad osaleda 1.-12. klassi õpilased kuues vanuserühmas.&nbsp;</p><p>Meie koolist osaleb võistlusel kokku 35 õpilast.&nbsp;</p><p>Võistlus toimub ruumis nr 211, 2.ainetunni ajal. Ülesannete lahendamiseks on aega 1 tund ja 15 minutit.</p><p><strong>Link: </strong>https://avinurme.edu.ee/et/sundmuste-kalender/matemaatikavoistlus-kanguru-2026</p><p><strong>Hind: </strong></p>
X-MICROSOFT-CDO-BUSYSTATUS:OOF
X-MICROSOFT-CDO-IMPORTANCE:1
X-MICROSOFT-DISALLOW-COUNTER:FALSE
X-MS-OLK-ALLOWEXTERNCHECK:TRUE
X-MS-OLK-CONFTYPE:0
X-MICROSOFT-CDO-ALLDAYEVENT:
X-MICROSOFT-MSNCALENDAR-ALLDAYEVENT:
END:VEVENT
END:VCALENDAR